BEGIN:VCALENDAR
VERSION:2.0
PRODID:-//AJOS - ECPv6.15.20//NONSGML v1.0//EN
CALSCALE:GREGORIAN
METHOD:PUBLISH
X-WR-CALNAME:AJOS
X-ORIGINAL-URL:https://joyassostenibles.org
X-WR-CALDESC:Eventos para AJOS
REFRESH-INTERVAL;VALUE=DURATION:PT1H
X-Robots-Tag:noindex
X-PUBLISHED-TTL:PT1H
BEGIN:VTIMEZONE
TZID:UTC
BEGIN:STANDARD
TZOFFSETFROM:+0000
TZOFFSETTO:+0000
TZNAME:UTC
DTSTART:20240101T000000
END:STANDARD
END:VTIMEZONE
BEGIN:VEVENT
DTSTART;VALUE=DATE:20250922
DTEND;VALUE=DATE:20250928
DTSTAMP:20260423T082456
CREATED:20250827T220142Z
LAST-MODIFIED:20250827T221026Z
UID:812-1758499200-1759017599@joyassostenibles.org
SUMMARY:Semana de la Joyería 2025
DESCRIPTION:La Semana de la Joyería de Colombia es un evento anual organizado por la Corporación Joyera del Valle de Aburrá (Corpojova)\, diseñado para fortalecer y visibilizar el sector joyero colombiano. Este evento reúne a joyeros\, artesanos\, académicos y entidades relacionadas con la cadena de valor de la orfebrería y joyería. A través de una agenda repleta de actividades\, se busca impulsar el crecimiento y la innovación en el sector. \nEn la edición de 2024\, bajo el lema «Buenos hábitos generan grandes cambios»\, se llevaron a cabo diversas charlas inspiradoras y salas de negocios\, proporcionando un espacio ideal para conectar con proveedores\, establecer alianzas estratégicas y explorar nuevas oportunidades de negocio. \nEste evento cuenta con el apoyo de instituciones como el SENA\, Joyas Sostenibles\, Fenalco y Artesanías de Colombia\, consolidándose como una plataforma clave para el desarrollo y posicionamiento de la joyería colombiana en el ámbito nacional e internacional.
URL:https://joyassostenibles.org/evento/semana-de-la-joyeria-2025/
ATTACH;FMTTYPE=image/jpeg:https://joyassostenibles.org/wp-content/uploads/2025/08/IMAGEN-PRINCIPAL.jpeg
END:VEVENT
BEGIN:VEVENT
DTSTART;VALUE=DATE:20250912
DTEND;VALUE=DATE:20250913
DTSTAMP:20260423T082456
CREATED:20250827T215612Z
LAST-MODIFIED:20250827T222121Z
UID:810-1757635200-1757721599@joyassostenibles.org
SUMMARY:La joyería sostenible en la pasarela de MOMAD
DESCRIPTION:MOMAD es el principal salón de moda en España\, que reúne a marcas\, diseñadores y profesionales del sector para presentar tendencias\, innovación y productos de alto nivel. Es un espacio clave donde la industria conecta\, genera negocios y descubre las últimas novedades en moda y complementos. \nLa Asociación de Joyas Sostenibles llevará a MOMAD una pasarela exclusiva para nuestros asociados\, mostrando la creatividad y la innovación de la joyería responsable. \nEs una oportunidad única para visibilizar marcas comprometidas con la sostenibilidad\, conectar con compradores y prensa\, y consolidar la presencia de la joyería ética en la industria de la moda.
URL:https://joyassostenibles.org/evento/momad-2025/
LOCATION:Ifema\, Pabellón 4\, Av. del Partenón\, 5\, Barajas\, Madrid\, Madrid\, 28042\, Spain
ATTACH;FMTTYPE=image/jpeg:https://joyassostenibles.org/wp-content/uploads/2025/08/NIK4953-scaled.jpg
END:VEVENT
BEGIN:VEVENT
DTSTART;TZID=UTC:20250911T100000
DTEND;TZID=UTC:20250914T180000
DTSTAMP:20260423T082456
CREATED:20250827T214507Z
LAST-MODIFIED:20250827T223053Z
UID:806-1757584800-1757872800@joyassostenibles.org
SUMMARY:Madridjoya
DESCRIPTION:Madridjoya es el punto de encuentro más importante de la industria joyera en España. Una feria profesional que reúne a marcas\, diseñadores\, artesanos y proveedores de todo el mundo para presentar tendencias\, innovaciones y proyectos que marcan el futuro del sector. \nPara la Asociación de Joyas Sostenibles\, es un espacio clave para dar visibilidad a la joyería responsable\, a nuestros asociados\, generar alianzas y mostrar que la sostenibilidad ya es parte esencial del presente y futuro de la joyería.
URL:https://joyassostenibles.org/evento/madridjoya25/
LOCATION:Ifema\, Pabellón 4\, Av. del Partenón\, 5\, Barajas\, Madrid\, Madrid\, 28042\, Spain
ATTACH;FMTTYPE=image/jpeg:https://joyassostenibles.org/wp-content/uploads/2025/08/madrid_joya_2016_edicion_septiembre.jpg
END:VEVENT
END:VCALENDAR